BEGIN:VCALENDAR
VERSION:2.0
PRODID:-//Librairie le monde de Sophie - ECPv6.3.7//NONSGML v1.0//EN
CALSCALE:GREGORIAN
METHOD:PUBLISH
X-WR-CALNAME:Librairie le monde de Sophie
X-ORIGINAL-URL:https://librairielemondedesophie.fr
X-WR-CALDESC:évènements pour Librairie le monde de Sophie
REFRESH-INTERVAL;VALUE=DURATION:PT1H
X-Robots-Tag:noindex
X-PUBLISHED-TTL:PT1H
BEGIN:VTIMEZONE
TZID:UTC
BEGIN:STANDARD
TZOFFSETFROM:+0000
TZOFFSETTO:+0000
TZNAME:UTC
DTSTART:20240101T000000
END:STANDARD
END:VTIMEZONE
BEGIN:VEVENT
DTSTART;TZID=UTC:20240516T170000
DTEND;TZID=UTC:20240516T190000
DTSTAMP:20260420T103238
CREATED:20240426T142023Z
LAST-MODIFIED:20240429T143440Z
UID:115-1715878800-1715886000@librairielemondedesophie.fr
SUMMARY:Club littéraire
DESCRIPTION:Chers amoureux des livres\, notre prochaine rencontre du club littéraire aura lieu le jeudi 16 mai. Apportez un ou plusieurs de vos livres préférés\, ceux qui vous ont émus\, fait rire\, pleurer ou réfléchir\, et soyez prêts à en discuter avec d’autres passionnés. C’est une occasion parfaite pour découvrir de nouvelles œuvres et pourquoi pas\, de nouveaux amis. On vous attend nombreux !
URL:https://librairielemondedesophie.fr/evenement/club-litteraire/
LOCATION:Librairie du Hérisson\, 38 rue Gautier 1er\, Nemours\, 77140\, France
CATEGORIES:Club littéraire
ATTACH;FMTTYPE=image/png:https://librairielemondedesophie.fr/wp-content/uploads/2024/04/Copie-de-Copie-de-Copie-de-Copie-de-club-litteraire-nemours-e1714141390557.png
END:VEVENT
END:VCALENDAR