BEGIN:VCALENDAR
VERSION:2.0
PRODID:-//Librairie le monde de Sophie - ECPv6.3.7//NONSGML v1.0//EN
CALSCALE:GREGORIAN
METHOD:PUBLISH
X-ORIGINAL-URL:https://librairielemondedesophie.fr
X-WR-CALDESC:évènements pour Librairie le monde de Sophie
REFRESH-INTERVAL;VALUE=DURATION:PT1H
X-Robots-Tag:noindex
X-PUBLISHED-TTL:PT1H
BEGIN:VTIMEZONE
TZID:UTC
BEGIN:STANDARD
TZOFFSETFROM:+0000
TZOFFSETTO:+0000
TZNAME:UTC
DTSTART:20240101T000000
END:STANDARD
END:VTIMEZONE
BEGIN:VEVENT
DTSTART;TZID=UTC:20240427T143000
DTEND;TZID=UTC:20240427T180000
DTSTAMP:20260420T121327
CREATED:20240425T095018Z
LAST-MODIFIED:20240425T161638Z
UID:70-1714228200-1714240800@librairielemondedesophie.fr
SUMMARY:Recontre avec Philipe Ducourneau
DESCRIPTION:Rencontrez Philippe Ducourneau\, l’auteur captivant du best-seller « Une Autre Vie« \, lors d’une après-midi exceptionnelle à la Librairie du Hérisson. Profitez de cette opportunité unique le samedi 27 avril\, de 14h30 à 18h\, pour échanger directement avec l’auteur et découvrir les coulisses de son œuvre. Que vous soyez un fidèle admirateur ou nouveau lecteur\, cette rencontre promet des discussions enrichissantes et des dédicaces personnalisées. Ne manquez pas cette occasion de plonger plus profondément dans l’univers de « Une Autre Vie » et de repartir avec votre exemplaire signé par Philippe Ducourneau lui-même. Venez nombreux!
URL:https://librairielemondedesophie.fr/evenement/philipe-ducourneau/
LOCATION:Librairie du Hérisson\, 38 rue Gautier 1er\, Nemours\, 77140\, France
CATEGORIES:Recontre
ATTACH;FMTTYPE=image/jpeg:https://librairielemondedesophie.fr/wp-content/uploads/2024/04/Copie-de-CENDRINE-NOUGUE-04.11-e1714061827311.jpg
END:VEVENT
END:VCALENDAR